BEGIN:VCALENDAR
VERSION:2.0
PRODID:-//Squarespace Inc/Squarespace 6//v6//EN
BEGIN:VEVENT
UID:59c067c44c326dc6b617a419@squarespace.com
DTSTAMP:20170921T071608Z
DTSTART:20170926T040000Z
DTEND:20170926T050000Z
SUMMARY:Skills Grey Lynn
END:VEVENT
END:VCALENDAR
