BEGIN:VCALENDAR
VERSION:2.0
PRODID:-//Squarespace Inc/Squarespace 6//v6//EN
BEGIN:VEVENT
UID:59c06854e5dd5bf0edd68322@squarespace.com
DTSTAMP:20170919T022002Z
DTSTART:20170927T053000Z
DTEND:20170927T061500Z
SUMMARY:Fitness Grey Lynn
END:VEVENT
END:VCALENDAR
