BEGIN:VCALENDAR
VERSION:2.0
PRODID:-//Squarespace Inc/Squarespace 6//v6//EN
BEGIN:VEVENT
UID:59c05b31c027d8aaa239b22d@squarespace.com
DTSTAMP:20170918T234938Z
DTSTART:20170927T050000Z
DTEND:20170927T060000Z
SUMMARY:Skills Avondale
END:VEVENT
END:VCALENDAR
