BEGIN:VCALENDAR
VERSION:2.0
PRODID:-//Squarespace Inc/Squarespace 6//v6//EN
BEGIN:VEVENT
UID:59c06b1e9f8dce21bb5b9fc3@squarespace.com
DTSTAMP:20170919T022050Z
DTSTART:20170927T171500Z
DTEND:20170927T180000Z
SUMMARY:Fitness Grey Lynn
END:VEVENT
END:VCALENDAR
