BEGIN:VCALENDAR
VERSION:2.0
PRODID:-//Squarespace Inc/Squarespace 6//v6//EN
BEGIN:VEVENT
UID:59c06ab42278e7f0d66f1dff@squarespace.com
DTSTAMP:20170919T005443Z
DTSTART:20170928T040000Z
DTEND:20170928T050000Z
SUMMARY:Skills Wellington
END:VEVENT
END:VCALENDAR
