BEGIN:VCALENDAR
VERSION:2.0
PRODID:-//Squarespace Inc/Squarespace 6//v6//EN
BEGIN:VEVENT
UID:59c06b682994ca04b2732199@squarespace.com
DTSTAMP:20170919T010144Z
DTSTART:20170929T200000Z
DTEND:20170929T204500Z
SUMMARY:Fitness Avondale
END:VEVENT
END:VCALENDAR
